BEGIN:VCALENDAR
VERSION:2.0
PRODID:-//APAP - ECPv6.15.20//NONSGML v1.0//EN
CALSCALE:GREGORIAN
METHOD:PUBLISH
X-ORIGINAL-URL:https://apap.pt
X-WR-CALDESC:Eventos para APAP
REFRESH-INTERVAL;VALUE=DURATION:PT1H
X-Robots-Tag:noindex
X-PUBLISHED-TTL:PT1H
BEGIN:VTIMEZONE
TZID:Europe/Lisbon
BEGIN:DAYLIGHT
TZOFFSETFROM:+0000
TZOFFSETTO:+0100
TZNAME:WEST
DTSTART:20250330T010000
END:DAYLIGHT
BEGIN:STANDARD
TZOFFSETFROM:+0100
TZOFFSETTO:+0000
TZNAME:WET
DTSTART:20251026T010000
END:STANDARD
BEGIN:DAYLIGHT
TZOFFSETFROM:+0000
TZOFFSETTO:+0100
TZNAME:WEST
DTSTART:20260329T010000
END:DAYLIGHT
BEGIN:STANDARD
TZOFFSETFROM:+0100
TZOFFSETTO:+0000
TZNAME:WET
DTSTART:20261025T010000
END:STANDARD
BEGIN:DAYLIGHT
TZOFFSETFROM:+0000
TZOFFSETTO:+0100
TZNAME:WEST
DTSTART:20270328T010000
END:DAYLIGHT
BEGIN:STANDARD
TZOFFSETFROM:+0100
TZOFFSETTO:+0000
TZNAME:WET
DTSTART:20271031T010000
END:STANDARD
END:VTIMEZONE
BEGIN:VEVENT
DTSTART;TZID=Europe/Lisbon:20260418T110000
DTEND;TZID=Europe/Lisbon:20260418T130000
DTSTAMP:20260425T151240
CREATED:20260414T113328Z
LAST-MODIFIED:20260414T113328Z
UID:23352-1776510000-1776517200@apap.pt
SUMMARY:Visita Guiada ao Jardim Botânico do Porto
DESCRIPTION:No próximo dia 18 de abril assinala-se o Dia Internacional dos Monumentos e Sítios (DIMS)\, promovido pelo Património Cultural\, IP. A Direcção da APAP considerou ser do maior interesse organizar um evento no Jardim Botânico da Universidade do Porto\, em parceria com a FCUP\, no âmbito das comemorações na região Norte. \n\n\n\n\n\n\n\nSob o tema “Árvores. Esses monumentos\, esse património!!…”\, este será um evento simples\, centrado na reflexão sobre a relevância das árvores como verdadeiros monumentos — desde logo os chamados “gigantes verdes” —\, em particular no contexto urbano. Iremos também abordar a importância de uma adequada planificação dos planos de plantação em meio urbano\, de forma a evitar situações como as podas de rolamento\, que comprometem o desenvolvimento e a expressão plena de exemplares que poderiam\, e deveriam\, assumir um carácter monumental. \nO Professor Paulo Farinha Marques\, director do Jardim Botânico\, e membro da APAP\, irá liderar uma visita guiada pelo jardim no dia 18 de Abril\, às 11hs e\, entre outros aspectos\, falar sobre a importância de planificar em projecto\, para que as árvores possam vir a expressar-se como monumentos vivos e não estejam sujeitas a podas de rolaria.
URL:https://apap.pt/agenda/visita-guiada-ao-jardim-botanico-do-porto/
LOCATION:Jardim Botânico da Universidade do Porto\, Rua do Campo Alegre 1191\, Porto\, Porto\, 4150-181\, Portugal
CATEGORIES:da APAP,Todos
ATTACH;FMTTYPE=image/jpeg:https://apap.pt/wp-content/uploads/2026/04/DIMS-2026-1.jpg
END:VEVENT
END:VCALENDAR