BEGIN:VCALENDAR
VERSION:2.0
PRODID:-//APAP - ECPv6.15.20//NONSGML v1.0//EN
CALSCALE:GREGORIAN
METHOD:PUBLISH
X-WR-CALNAME:APAP
X-ORIGINAL-URL:https://apap.pt
X-WR-CALDESC:Eventos para APAP
REFRESH-INTERVAL;VALUE=DURATION:PT1H
X-Robots-Tag:noindex
X-PUBLISHED-TTL:PT1H
BEGIN:VTIMEZONE
TZID:Europe/Lisbon
BEGIN:DAYLIGHT
TZOFFSETFROM:+0000
TZOFFSETTO:+0100
TZNAME:WEST
DTSTART:20250330T010000
END:DAYLIGHT
BEGIN:STANDARD
TZOFFSETFROM:+0100
TZOFFSETTO:+0000
TZNAME:WET
DTSTART:20251026T010000
END:STANDARD
BEGIN:DAYLIGHT
TZOFFSETFROM:+0000
TZOFFSETTO:+0100
TZNAME:WEST
DTSTART:20260329T010000
END:DAYLIGHT
BEGIN:STANDARD
TZOFFSETFROM:+0100
TZOFFSETTO:+0000
TZNAME:WET
DTSTART:20261025T010000
END:STANDARD
BEGIN:DAYLIGHT
TZOFFSETFROM:+0000
TZOFFSETTO:+0100
TZNAME:WEST
DTSTART:20270328T010000
END:DAYLIGHT
BEGIN:STANDARD
TZOFFSETFROM:+0100
TZOFFSETTO:+0000
TZNAME:WET
DTSTART:20271031T010000
END:STANDARD
END:VTIMEZONE
BEGIN:VEVENT
DTSTART;VALUE=DATE:20260506
DTEND;VALUE=DATE:20260510
DTSTAMP:20260425T164430
CREATED:20260414T115020Z
LAST-MODIFIED:20260414T115020Z
UID:23360-1778025600-1778371199@apap.pt
SUMMARY:Fórum da Paisagem\, Guimarães
DESCRIPTION:Landscape Forum 2026 Guimarães\, Portugal\nThe 15th Landscape Forum of the LE:NOTRE Institute will take place in the European Green Capital 2026: the beautiful town of Guimarães in Portugal. Forum hosts are the Landscape Laboratory of Guimarães and UTAD\, University de Trás-os-Montes e Alto Douro. \nForum dates: May 6 – 9\, 2026 \nDiscover the forum programme.
URL:https://apap.pt/agenda/forum-da-paisagem-guimaraes/
CATEGORIES:com participação da APAP,Todos
ATTACH;FMTTYPE=image/jpeg:https://apap.pt/wp-content/uploads/2026/02/Landscape-Forum-2026-Guimaraes.jpg
END:VEVENT
END:VCALENDAR