BEGIN:VCALENDAR
VERSION:2.0
PRODID:-//APAP - ECPv6.15.20//NONSGML v1.0//EN
CALSCALE:GREGORIAN
METHOD:PUBLISH
X-WR-CALNAME:APAP
X-ORIGINAL-URL:https://apap.pt
X-WR-CALDESC:Eventos para APAP
REFRESH-INTERVAL;VALUE=DURATION:PT1H
X-Robots-Tag:noindex
X-PUBLISHED-TTL:PT1H
BEGIN:VTIMEZONE
TZID:Europe/Lisbon
BEGIN:DAYLIGHT
TZOFFSETFROM:+0000
TZOFFSETTO:+0100
TZNAME:WEST
DTSTART:20240331T010000
END:DAYLIGHT
BEGIN:STANDARD
TZOFFSETFROM:+0100
TZOFFSETTO:+0000
TZNAME:WET
DTSTART:20241027T010000
END:STANDARD
BEGIN:DAYLIGHT
TZOFFSETFROM:+0000
TZOFFSETTO:+0100
TZNAME:WEST
DTSTART:20250330T010000
END:DAYLIGHT
BEGIN:STANDARD
TZOFFSETFROM:+0100
TZOFFSETTO:+0000
TZNAME:WET
DTSTART:20251026T010000
END:STANDARD
BEGIN:DAYLIGHT
TZOFFSETFROM:+0000
TZOFFSETTO:+0100
TZNAME:WEST
DTSTART:20260329T010000
END:DAYLIGHT
BEGIN:STANDARD
TZOFFSETFROM:+0100
TZOFFSETTO:+0000
TZNAME:WET
DTSTART:20261025T010000
END:STANDARD
END:VTIMEZONE
BEGIN:VEVENT
DTSTART;TZID=Europe/Lisbon:20251107T183000
DTEND;TZID=Europe/Lisbon:20251107T203000
DTSTAMP:20260426T012655
CREATED:20250425T095948Z
LAST-MODIFIED:20251027T145804Z
UID:21885-1762540200-1762547400@apap.pt
SUMMARY:JOT 4: A IMPORTÂNCIA DOS ÓRGÃOS CONSULTIVOS para o Ordenamento do Território e para a Paisagem
DESCRIPTION:Jornadas de Ordenamento do Território: 4ª sessão \nA IMPORTÂNCIA DOS ÓRGÃOS CONSULTIVOS para o Ordenamento do Território e para a Paisagem \nCom Teresa Andresen\, Marta Rodrigues \n07 nov | 18hs30 • Casa das Caldeiras\, Coimbra \n  \nJornadas de Prática de Projecto: 4ª sessão \nVISITA ao PASSEIO RIBEIRINHO DE AEMINIUM \nCom Joana Sobral \n08 nov | 10hs30 • Ponto de encontro: Largo da Portagem\, Coimbra \n  \nLugares limitados. Inscrição gratuita\, mas obrigatória!! \nInformação completa sobre as Jornadas do Ordenamento do Território aqui
URL:https://apap.pt/agenda/jot-a-importancia-dos-orgaos-consultivos-para-o-ordenamento-do-territorio-e-para-a-paisagem/
LOCATION:Porto
CATEGORIES:da APAP,Todos
ATTACH;FMTTYPE=image/jpeg:https://apap.pt/wp-content/uploads/2025/04/4_Jornadas-de-Ordenamento-do-Territorio_07-11-2025-COIMBRA-2.jpg
END:VEVENT
BEGIN:VEVENT
DTSTART;TZID=Europe/Lisbon:20251108T103000
DTEND;TZID=Europe/Lisbon:20251108T113000
DTSTAMP:20260426T012655
CREATED:20251003T165241Z
LAST-MODIFIED:20251003T165806Z
UID:22540-1762597800-1762601400@apap.pt
SUMMARY:JPP 4: VISITA ao PASSEIO RIBEIRINHO DE AEMINIUM
DESCRIPTION:Jornadas de Prática de Projecto: 4ª sessão \nVISITA ao PASSEIO RIBEIRINHO DE AEMINIUM \nCom Joana Sobral \n08 nov | 10hs30 • Ponto de encontro: Largo da Portagem\, Coimbra \n  \nLugares limitados. Inscrição gratuita\, mas obrigatória!! \nInformação completa sobre as Jornadas do Ordenamento do Território aqui
URL:https://apap.pt/agenda/4a-jornada-de-pratica-de-projecto/
LOCATION:Largo da Portagem\, Coimbra\, Largo da Portagem\, Coimbra\, Coimbra\, 3000-337\, Portugal
CATEGORIES:da APAP,Todos
ATTACH;FMTTYPE=image/jpeg:https://apap.pt/wp-content/uploads/2025/10/4_Jornadas-de-Praticas-de-Projecto_08-11-2025-COIMBRA.jpg
ORGANIZER;CN="Associa%C3%A7%C3%A3o Portuguesa dos Arquitectos Paisagistas":MAILTO:apap@apap.pt
END:VEVENT
BEGIN:VEVENT
DTSTART;TZID=Europe/Lisbon:20251108T150000
DTEND;TZID=Europe/Lisbon:20251108T170000
DTSTAMP:20260426T012655
CREATED:20251008T112937Z
LAST-MODIFIED:20251008T112937Z
UID:22552-1762614000-1762621200@apap.pt
SUMMARY:Sessão de Esclarecimentos sobre a eventual fusão ou integração APAP/OA
DESCRIPTION:Cara(o) Colega\, \nNos últimos dezoito meses\, têm decorrido negociações entre a nossa Associação e a Ordem dos Arquitectos\, com o intuito de estabelecer formas concretas para viabilizar uma eventual fusão ou integração entre ambas as entidades. Este processo\, que se encontra actualmente numa etapa intermédia\, reveste-se de particular importância estratégica para o futuro da nossa Associação. \nReconhecendo a necessidade de auscultar as diferentes perspectivas dos membros\, propõe a Direção a realização de uma reunião que visa promover um espaço de diálogo aberto para recolher contributos e opiniões dos associados sobre o processo em curso\, de modo a apoiar a tomada de decisões fundamentadas neste momento determinante. \nConvido-a(o) assim a participar numa reunião híbrida (presencial/online) que se realizará no dia 8 de Novembro\, às 15:00\, na Sala de Reuniões do Cowork Pátio\, em Coimbra\, ou por ZOOM\, sendo a ligação a disponibilizar: \nLink: https://us02web.zoom.us/j/84542911429?pwd=AmBSYGm9jJeF68T82pPhD805hGRXWx.1\nID da reunião: 845 4291 1429 \nSenha: APAP-AO \nADVERTÊNCIA: a reunião será gravada e dela será lavrada acta.
URL:https://apap.pt/agenda/sessao-de-esclarecimentos-sobre-a-eventual-fusao-ou-integracao-apap-oa/
LOCATION:CoWork Patio\, Cowork Pátio\, St.ª Cruz\, Pto. de São Bernardo\, Coimbra\, Coimbra\, 3000-289\, Portugal
CATEGORIES:da APAP,Todos
ATTACH;FMTTYPE=image/jpeg:https://apap.pt/wp-content/uploads/2025/10/Convocatorias-Sessao-Esclarecimentos.jpg
ORGANIZER;CN="Associa%C3%A7%C3%A3o Portuguesa dos Arquitectos Paisagistas":MAILTO:apap@apap.pt
END:VEVENT
BEGIN:VEVENT
DTSTART;TZID=Europe/Lisbon:20251122T143000
DTEND;TZID=Europe/Lisbon:20251122T170000
DTSTAMP:20260426T012655
CREATED:20251118T181217Z
LAST-MODIFIED:20251118T181242Z
UID:22717-1763821800-1763830800@apap.pt
SUMMARY:Assembleia-Geral Plenária Ordinária
DESCRIPTION:Convocam-se todos os membros da APAP – “ASSOCIAÇÃO PORTUGUESA DOS ARQUITECTOS PAISAGISTAS”\, para a reunião da Assembleia-Geral Ordinária\, a realizar no próximo dia 22 de Novembro de 2025\, pelas 14 horas e 30 minutos\, no Observatório da Paisagem da Charneca\, Casal do Gavião\, 2140-224 Gaviãozinho\, com a seguinte ordem de trabalhos: \nPonto Um: Designação de novos membros para preenchimento dos cargos vagos (remanescente do mandato em curso) do Conselho Fiscal (ponto da ordem de trabalhos que foi objeto de adiamento na Assembleia Geral Ordinária realizada em 5 de Junho de 2025); \nPonto Dois: Deliberação sobre o Programa de Acção e Proposta de Orçamento para o ano de 2026. \nPonto Três: Ratificação do valor da quota para o ano de 2026. \nSe no dia e hora supra-referidos\, não estiver presente o número mínimo de Associados legalmente exigido para a realização da Assembleia\, esta realizar-se-á meia hora depois\, no mesmo local\, com a presença de qualquer número de Associados\, para deliberar sobre a mesma ordem de trabalhos. \nMais informação: https://apap.pt/convocatoria-a-assembleia-geral-plenaria-ordinaria-2/
URL:https://apap.pt/agenda/assembleia-geral-plenaria-ordinaria-2/
LOCATION:Observatório da Paisagem\, Observatório da Charneca\, Casal do Gavião\, Gaviãozinho\, Chamusca\, 2140-224\, Portugal
CATEGORIES:da APAP,Todos
ATTACH;FMTTYPE=image/jpeg:https://apap.pt/wp-content/uploads/2025/11/Convocatoria-AG.jpg
END:VEVENT
END:VCALENDAR