BEGIN:VCALENDAR
VERSION:2.0
PRODID:-//APAP - ECPv6.15.20//NONSGML v1.0//EN
CALSCALE:GREGORIAN
METHOD:PUBLISH
X-WR-CALNAME:APAP
X-ORIGINAL-URL:https://apap.pt
X-WR-CALDESC:Eventos para APAP
REFRESH-INTERVAL;VALUE=DURATION:PT1H
X-Robots-Tag:noindex
X-PUBLISHED-TTL:PT1H
BEGIN:VTIMEZONE
TZID:Europe/Lisbon
BEGIN:DAYLIGHT
TZOFFSETFROM:+0000
TZOFFSETTO:+0100
TZNAME:WEST
DTSTART:20240331T010000
END:DAYLIGHT
BEGIN:STANDARD
TZOFFSETFROM:+0100
TZOFFSETTO:+0000
TZNAME:WET
DTSTART:20241027T010000
END:STANDARD
BEGIN:DAYLIGHT
TZOFFSETFROM:+0000
TZOFFSETTO:+0100
TZNAME:WEST
DTSTART:20250330T010000
END:DAYLIGHT
BEGIN:STANDARD
TZOFFSETFROM:+0100
TZOFFSETTO:+0000
TZNAME:WET
DTSTART:20251026T010000
END:STANDARD
BEGIN:DAYLIGHT
TZOFFSETFROM:+0000
TZOFFSETTO:+0100
TZNAME:WEST
DTSTART:20260329T010000
END:DAYLIGHT
BEGIN:STANDARD
TZOFFSETFROM:+0100
TZOFFSETTO:+0000
TZNAME:WET
DTSTART:20261025T010000
END:STANDARD
END:VTIMEZONE
BEGIN:VEVENT
DTSTART;TZID=Europe/Lisbon:20251122T143000
DTEND;TZID=Europe/Lisbon:20251122T170000
DTSTAMP:20260426T030805
CREATED:20251118T181217Z
LAST-MODIFIED:20251118T181242Z
UID:22717-1763821800-1763830800@apap.pt
SUMMARY:Assembleia-Geral Plenária Ordinária
DESCRIPTION:Convocam-se todos os membros da APAP – “ASSOCIAÇÃO PORTUGUESA DOS ARQUITECTOS PAISAGISTAS”\, para a reunião da Assembleia-Geral Ordinária\, a realizar no próximo dia 22 de Novembro de 2025\, pelas 14 horas e 30 minutos\, no Observatório da Paisagem da Charneca\, Casal do Gavião\, 2140-224 Gaviãozinho\, com a seguinte ordem de trabalhos: \nPonto Um: Designação de novos membros para preenchimento dos cargos vagos (remanescente do mandato em curso) do Conselho Fiscal (ponto da ordem de trabalhos que foi objeto de adiamento na Assembleia Geral Ordinária realizada em 5 de Junho de 2025); \nPonto Dois: Deliberação sobre o Programa de Acção e Proposta de Orçamento para o ano de 2026. \nPonto Três: Ratificação do valor da quota para o ano de 2026. \nSe no dia e hora supra-referidos\, não estiver presente o número mínimo de Associados legalmente exigido para a realização da Assembleia\, esta realizar-se-á meia hora depois\, no mesmo local\, com a presença de qualquer número de Associados\, para deliberar sobre a mesma ordem de trabalhos. \nMais informação: https://apap.pt/convocatoria-a-assembleia-geral-plenaria-ordinaria-2/
URL:https://apap.pt/agenda/assembleia-geral-plenaria-ordinaria-2/
LOCATION:Observatório da Paisagem\, Observatório da Charneca\, Casal do Gavião\, Gaviãozinho\, Chamusca\, 2140-224\, Portugal
CATEGORIES:da APAP,Todos
ATTACH;FMTTYPE=image/jpeg:https://apap.pt/wp-content/uploads/2025/11/Convocatoria-AG.jpg
END:VEVENT
END:VCALENDAR