BEGIN:VCALENDAR
VERSION:2.0
PRODID:-//APAP - ECPv6.15.20//NONSGML v1.0//EN
CALSCALE:GREGORIAN
METHOD:PUBLISH
X-ORIGINAL-URL:https://apap.pt
X-WR-CALDESC:Eventos para APAP
REFRESH-INTERVAL;VALUE=DURATION:PT1H
X-Robots-Tag:noindex
X-PUBLISHED-TTL:PT1H
BEGIN:VTIMEZONE
TZID:Europe/Lisbon
BEGIN:DAYLIGHT
TZOFFSETFROM:+0000
TZOFFSETTO:+0100
TZNAME:WEST
DTSTART:20240331T010000
END:DAYLIGHT
BEGIN:STANDARD
TZOFFSETFROM:+0100
TZOFFSETTO:+0000
TZNAME:WET
DTSTART:20241027T010000
END:STANDARD
BEGIN:DAYLIGHT
TZOFFSETFROM:+0000
TZOFFSETTO:+0100
TZNAME:WEST
DTSTART:20250330T010000
END:DAYLIGHT
BEGIN:STANDARD
TZOFFSETFROM:+0100
TZOFFSETTO:+0000
TZNAME:WET
DTSTART:20251026T010000
END:STANDARD
BEGIN:DAYLIGHT
TZOFFSETFROM:+0000
TZOFFSETTO:+0100
TZNAME:WEST
DTSTART:20260329T010000
END:DAYLIGHT
BEGIN:STANDARD
TZOFFSETFROM:+0100
TZOFFSETTO:+0000
TZNAME:WET
DTSTART:20261025T010000
END:STANDARD
END:VTIMEZONE
BEGIN:VEVENT
DTSTART;TZID=Europe/Lisbon:20251017T093000
DTEND;TZID=Europe/Lisbon:20251017T180000
DTSTAMP:20260426T045026
CREATED:20250916T124117Z
LAST-MODIFIED:20250916T124117Z
UID:22446-1760693400-1760724000@apap.pt
SUMMARY:AFC Materiais e Sistemas Constructivos 2/2
DESCRIPTION:ACÇÃO DE FORMAÇÃO COMPLEMENTAR\nMateriais e Sistemas Constructivos \nDESTINATÁRIOS:\nArquitectos paisagistas\, técnicos e profissionais de construcção e manutenção de espaços verdes. Todos os interessados no tema. \nOBJECTIVOS:\nTransmissão de um conjunto de conhecimentos sobre materiais e sistemas construtivos frequentemente utilizados na construcção de espaços exteriores\, por forma a que no final\, os formandos estejam mais aptos a identificar as suas principais características\, potencialidades e condicionalismos.\nIncrementar o conhecimento e fomentar a capacidade técnica como suporte para o processo de concepção de qualquer espaço exterior e como base para a elaboração das peças técnicas que informam a fase de projecto de execução. \nFORMADORES:\nArquitecto Paisagista Pedro Batalha\nArquitecta Paisagista Paula Simões\, formadora certificada pelo IEFP \nCARGA HORÁRIA:\nDois dias (6h + 6h = 12h) \nFORMATO:\nSessões online \nHORÁRIO:\nManhã: Bloco 1: 9:30 – 10:30 | Bloco 2 11:00 – 13:00\nTarde: Bloco 3: 14:30 – 15:30 | Bloco 4: 16:00 – 18:00\nDúvidas / Debate: 18:15 – 19:00 (opcional) \nInscrições: https://apap.pt/produto/afc-materiais-e-sistemas-constructivos/
URL:https://apap.pt/agenda/afc-materiais-e-sistemas-constructivos-2-2/
LOCATION:Online\, online
CATEGORIES:da APAP,Todos
ATTACH;FMTTYPE=image/jpeg:https://apap.pt/wp-content/uploads/2025/09/AFC-Materiais-2025.jpg
ORGANIZER;CN="Associa%C3%A7%C3%A3o Portuguesa dos Arquitectos Paisagistas":MAILTO:apap@apap.pt
END:VEVENT
END:VCALENDAR