BEGIN:VCALENDAR
VERSION:2.0
PRODID:-//APAP - ECPv6.15.20//NONSGML v1.0//EN
CALSCALE:GREGORIAN
METHOD:PUBLISH
X-ORIGINAL-URL:https://apap.pt
X-WR-CALDESC:Eventos para APAP
REFRESH-INTERVAL;VALUE=DURATION:PT1H
X-Robots-Tag:noindex
X-PUBLISHED-TTL:PT1H
BEGIN:VTIMEZONE
TZID:Europe/Lisbon
BEGIN:DAYLIGHT
TZOFFSETFROM:+0000
TZOFFSETTO:+0100
TZNAME:WEST
DTSTART:20240331T010000
END:DAYLIGHT
BEGIN:STANDARD
TZOFFSETFROM:+0100
TZOFFSETTO:+0000
TZNAME:WET
DTSTART:20241027T010000
END:STANDARD
BEGIN:DAYLIGHT
TZOFFSETFROM:+0000
TZOFFSETTO:+0100
TZNAME:WEST
DTSTART:20250330T010000
END:DAYLIGHT
BEGIN:STANDARD
TZOFFSETFROM:+0100
TZOFFSETTO:+0000
TZNAME:WET
DTSTART:20251026T010000
END:STANDARD
BEGIN:DAYLIGHT
TZOFFSETFROM:+0000
TZOFFSETTO:+0100
TZNAME:WEST
DTSTART:20260329T010000
END:DAYLIGHT
BEGIN:STANDARD
TZOFFSETFROM:+0100
TZOFFSETTO:+0000
TZNAME:WET
DTSTART:20261025T010000
END:STANDARD
BEGIN:DAYLIGHT
TZOFFSETFROM:+0000
TZOFFSETTO:+0100
TZNAME:WEST
DTSTART:20270328T010000
END:DAYLIGHT
BEGIN:STANDARD
TZOFFSETFROM:+0100
TZOFFSETTO:+0000
TZNAME:WET
DTSTART:20271031T010000
END:STANDARD
END:VTIMEZONE
BEGIN:VEVENT
DTSTART;VALUE=DATE:20251204
DTEND;VALUE=DATE:20260331
DTSTAMP:20260426T012946
CREATED:20251203T133208Z
LAST-MODIFIED:20251203T133208Z
UID:22782-1764806400-1774915199@apap.pt
SUMMARY:Exposição Itinerante "1925-2025 Centenário Ilídio de Araújo"
DESCRIPTION:Exposição Itinerante “1925-2025 Centenário Ilídio de Araújo”\nBiblioteca da FCUP\n4 Dezembro 2025 a 30 Março 2026
URL:https://apap.pt/agenda/exposicao-itinerante-1925-2025-centenario-ilidio-de-araujo/
LOCATION:Biblioteca da FCUP\, Rua do Campo Alegre s/n\,\, Porto\, Porto\, 4169-007\, Portugal
CATEGORIES:com participação da APAP,Todos
ATTACH;FMTTYPE=image/jpeg:https://apap.pt/wp-content/uploads/2025/12/exposicao-IAA.jpg
ORGANIZER;CN="Observat%C3%B3rio da Paisagem da FCUP":MAILTO:obs.paisagem@fc.up.pt
END:VEVENT
BEGIN:VEVENT
DTSTART;TZID=Europe/Lisbon:20251205T103000
DTEND;TZID=Europe/Lisbon:20251205T123000
DTSTAMP:20260426T012946
CREATED:20250425T100340Z
LAST-MODIFIED:20251204T091132Z
UID:21889-1764930600-1764937800@apap.pt
SUMMARY:JOT 5: O ENSINO COMO PREPARAÇÃO PARA A ARQUITETURA PAISAGISTA na escala do ordenamento do território
DESCRIPTION:Jornadas de Ordenamento do Território: 5ª sessão \nO ENSINO COMO PREPARAÇÃO PARA A ARQUITETURA PAISAGISTA na escala do ordenamento do território \nCom Selma Pena \nCasa do Jardim da Estrela\, Lisboa \n  \nLugares limitados. Inscrição gratuita\, mas obrigatória!! \nInformação completa sobre as Jornadas do Ordenamento do Território aqui
URL:https://apap.pt/agenda/jot-o-ensino-como-preparacao-para-a-arquitetura-paisagista-na-escala-do-ordenamento-do-territorio/
LOCATION:Casa do Jardim da Estrela\, Jardim da Estrela\, Lisboa\, Lisboa\, 1200-694\, Portugal
CATEGORIES:da APAP,Todos
ATTACH;FMTTYPE=image/jpeg:https://apap.pt/wp-content/uploads/2025/04/JOT-5.jpg
END:VEVENT
BEGIN:VEVENT
DTSTART;TZID=Europe/Lisbon:20251205T143000
DTEND;TZID=Europe/Lisbon:20251205T163000
DTSTAMP:20260426T012946
CREATED:20250425T100202Z
LAST-MODIFIED:20251204T091217Z
UID:21887-1764945000-1764952200@apap.pt
SUMMARY:JOT 6: A GESTÃO DAS POLÍTICAS DE ORDENAMENTO DO TERRITÓRIO nas Dinâmicas da Paisagem
DESCRIPTION:Jornadas de Ordenamento do Território: 6ª sessão \nA GESTÃO DAS POLÍTICAS DE ORDENAMENTO DO TERRITÓRIO nas Dinâmicas da Paisagem \nCom Fátima Bacharel \nCasa do Jardim da Estrela\, Lisboa \n  \nLugares limitados. Inscrição gratuita\, mas obrigatória!! \nInformação completa sobre as Jornadas do Ordenamento do Território aqui
URL:https://apap.pt/agenda/jot-a-gestao-das-politicas-de-ordenamento-do-territorio-nas-dinamicas-da-paisagem/
LOCATION:Casa do Jardim da Estrela\, Jardim da Estrela\, Lisboa\, Lisboa\, 1200-694\, Portugal
CATEGORIES:da APAP,Todos
ATTACH;FMTTYPE=image/jpeg:https://apap.pt/wp-content/uploads/2025/04/JOT-6_REV.jpg
END:VEVENT
END:VCALENDAR