BEGIN:VCALENDAR
VERSION:2.0
PRODID:-//APAP - ECPv6.15.20//NONSGML v1.0//EN
CALSCALE:GREGORIAN
METHOD:PUBLISH
X-ORIGINAL-URL:https://apap.pt
X-WR-CALDESC:Eventos para APAP
REFRESH-INTERVAL;VALUE=DURATION:PT1H
X-Robots-Tag:noindex
X-PUBLISHED-TTL:PT1H
BEGIN:VTIMEZONE
TZID:Europe/Lisbon
BEGIN:DAYLIGHT
TZOFFSETFROM:+0000
TZOFFSETTO:+0100
TZNAME:WEST
DTSTART:20240331T010000
END:DAYLIGHT
BEGIN:STANDARD
TZOFFSETFROM:+0100
TZOFFSETTO:+0000
TZNAME:WET
DTSTART:20241027T010000
END:STANDARD
BEGIN:DAYLIGHT
TZOFFSETFROM:+0000
TZOFFSETTO:+0100
TZNAME:WEST
DTSTART:20250330T010000
END:DAYLIGHT
BEGIN:STANDARD
TZOFFSETFROM:+0100
TZOFFSETTO:+0000
TZNAME:WET
DTSTART:20251026T010000
END:STANDARD
BEGIN:DAYLIGHT
TZOFFSETFROM:+0000
TZOFFSETTO:+0100
TZNAME:WEST
DTSTART:20260329T010000
END:DAYLIGHT
BEGIN:STANDARD
TZOFFSETFROM:+0100
TZOFFSETTO:+0000
TZNAME:WET
DTSTART:20261025T010000
END:STANDARD
END:VTIMEZONE
BEGIN:VEVENT
DTSTART;TZID=Europe/Lisbon:20250620T183000
DTEND;TZID=Europe/Lisbon:20250620T203000
DTSTAMP:20260426T054126
CREATED:20250425T095621Z
LAST-MODIFIED:20250611T104942Z
UID:21874-1750444200-1750451400@apap.pt
SUMMARY:JOT 2: As SERVIDÕES E RESTRIÇÕES DE UTILIDADE PÚBLICA no Ordenamento do Território e na Paisagem
DESCRIPTION:Jornadas de Ordenamento do Território: 2ª sessão \nAs SERVIDÕES E RESTRIÇÕES DE UTILIDADE PÚBLICA no Ordenamento do Território e na Paisagem \nCom Henrique Cabeleira \nFaro \n  \nJornadas de Práctica de Projecto: 2ª sessão\nComo parte deste evento\, no dia 21 de Junho às 10hs\, teremos uma visita guiada à obra de requalificação da MATA DO LICEU DE FARO\, com Gonçalo Mártires \n  \nLugares limitados. Inscrição gratuita\, mas obrigatória!! \nInformação completa sobre as Jornadas do Ordenamento do Território aqui
URL:https://apap.pt/agenda/jot-as-servidoes-e-restricoes-de-utilidade-publica-no-ordenamento-do-territorio-e-na-paisagem/
LOCATION:Club Farense\, R. de Santo Antonio\, 30 ·\, Faro\, Faro\, 8000-283\, Portugal
CATEGORIES:da APAP,Todos
ATTACH;FMTTYPE=image/jpeg:https://apap.pt/wp-content/uploads/2025/04/2_Jornadas-de-Ordenamento-do-Territorio_2_20-06-2025.jpg
END:VEVENT
BEGIN:VEVENT
DTSTART;TZID=Europe/Lisbon:20250621T100000
DTEND;TZID=Europe/Lisbon:20250621T113000
DTSTAMP:20260426T054126
CREATED:20250529T182440Z
LAST-MODIFIED:20250611T104933Z
UID:22121-1750500000-1750505400@apap.pt
SUMMARY:Jornadas de Prática de Projecto 2: VISITA à obra de requalificação da MATA DO LICEU DE FARO
DESCRIPTION:Jornadas de Práctica de Projecto: 2ª sessão \nVISITA à obra de requalificação da MATA DO LICEU DE FARO \nCom Gonçalo Mártires \nPonto de encontro: Portão da Escola Secundária João de Deus\, Faro \n  \nJornadas de Ordenamento do Território: 2ª sessão\nComo parte deste evento\, no dia 20 de Junho às 18hs30\, teremos uma conferência sob o tema “As SERVIDÕES E RESTRIÇÕES DE UTILIDADE PÚBLICA no Ordenamento do Território e na Paisagem”\, com Henrique Cabeleira \nFaro
URL:https://apap.pt/agenda/jornadas-de-pratica-de-projecto-visita-a-obra-de-requalificacao-da-mata-do-liceu-de-faro/
LOCATION:Escola Secundária João de Deus\, Faro\, Av. 5 de Outubro\, 85\, Faro\, Faro\, 8004-069\, Portugal
CATEGORIES:da APAP,Todos
ATTACH;FMTTYPE=image/jpeg:https://apap.pt/wp-content/uploads/2025/06/JPP-2-Visita-Obra-Mata-Liceu-Faro.jpg
END:VEVENT
END:VCALENDAR