BEGIN:VCALENDAR
VERSION:2.0
PRODID:-//APAP - ECPv6.15.20//NONSGML v1.0//EN
CALSCALE:GREGORIAN
METHOD:PUBLISH
X-ORIGINAL-URL:https://apap.pt
X-WR-CALDESC:Eventos para APAP
REFRESH-INTERVAL;VALUE=DURATION:PT1H
X-Robots-Tag:noindex
X-PUBLISHED-TTL:PT1H
BEGIN:VTIMEZONE
TZID:Europe/Lisbon
BEGIN:DAYLIGHT
TZOFFSETFROM:+0000
TZOFFSETTO:+0100
TZNAME:WEST
DTSTART:20240331T010000
END:DAYLIGHT
BEGIN:STANDARD
TZOFFSETFROM:+0100
TZOFFSETTO:+0000
TZNAME:WET
DTSTART:20241027T010000
END:STANDARD
BEGIN:DAYLIGHT
TZOFFSETFROM:+0000
TZOFFSETTO:+0100
TZNAME:WEST
DTSTART:20250330T010000
END:DAYLIGHT
BEGIN:STANDARD
TZOFFSETFROM:+0100
TZOFFSETTO:+0000
TZNAME:WET
DTSTART:20251026T010000
END:STANDARD
BEGIN:DAYLIGHT
TZOFFSETFROM:+0000
TZOFFSETTO:+0100
TZNAME:WEST
DTSTART:20260329T010000
END:DAYLIGHT
BEGIN:STANDARD
TZOFFSETFROM:+0100
TZOFFSETTO:+0000
TZNAME:WET
DTSTART:20261025T010000
END:STANDARD
BEGIN:DAYLIGHT
TZOFFSETFROM:+0000
TZOFFSETTO:+0100
TZNAME:WEST
DTSTART:20270328T010000
END:DAYLIGHT
BEGIN:STANDARD
TZOFFSETFROM:+0100
TZOFFSETTO:+0000
TZNAME:WET
DTSTART:20271031T010000
END:STANDARD
END:VTIMEZONE
BEGIN:VEVENT
DTSTART;VALUE=DATE:20251204
DTEND;VALUE=DATE:20260331
DTSTAMP:20260425T164559
CREATED:20251203T133208Z
LAST-MODIFIED:20251203T133208Z
UID:22782-1764806400-1774915199@apap.pt
SUMMARY:Exposição Itinerante "1925-2025 Centenário Ilídio de Araújo"
DESCRIPTION:Exposição Itinerante “1925-2025 Centenário Ilídio de Araújo”\nBiblioteca da FCUP\n4 Dezembro 2025 a 30 Março 2026
URL:https://apap.pt/agenda/exposicao-itinerante-1925-2025-centenario-ilidio-de-araujo/
LOCATION:Biblioteca da FCUP\, Rua do Campo Alegre s/n\,\, Porto\, Porto\, 4169-007\, Portugal
CATEGORIES:com participação da APAP,Todos
ATTACH;FMTTYPE=image/jpeg:https://apap.pt/wp-content/uploads/2025/12/exposicao-IAA.jpg
ORGANIZER;CN="Observat%C3%B3rio da Paisagem da FCUP":MAILTO:obs.paisagem@fc.up.pt
END:VEVENT
BEGIN:VEVENT
DTSTART;TZID=Europe/Lisbon:20260206T080000
DTEND;TZID=Europe/Lisbon:20260206T170000
DTSTAMP:20260425T164559
CREATED:20260209T133514Z
LAST-MODIFIED:20260209T133815Z
UID:23071-1770364800-1770397200@apap.pt
SUMMARY:SUSTLAND Webinar 3: Private Sector
DESCRIPTION:WEBINAR 3 \nTopic: Private Sector \nWhen: March 17 @17h (PT)\, 18h (ES) \nParticipants: \n  \nParticipation is free\, but registration is mandatory. \nRegistration:
URL:https://apap.pt/agenda/sustland-webinar-3-private-sector/
CATEGORIES:com participação da APAP,Todos
END:VEVENT
BEGIN:VEVENT
DTSTART;TZID=Europe/Lisbon:20260206T173000
DTEND;TZID=Europe/Lisbon:20260206T193000
DTSTAMP:20260425T164559
CREATED:20260105T153233Z
LAST-MODIFIED:20260105T193424Z
UID:22873-1770399000-1770406200@apap.pt
SUMMARY:3ª sessão de trabalho sobre o Dossier APAP|OA
DESCRIPTION:Os trabalhos sobre o reconhecimento da profissão\, incluindo negociações para possível integração dos Arquitectos Paisagistas na Ordem dos Arquitectos estão em andamento. Neste sentido\, estão previstas sessões de trabalho em formato híbrido (presencial e online via ZOOM)\, abertas aos associados interessados em contribuir activamente para o fortalecimento e valorização da profissão. \nEssas sessões contam com agendas previamente definidas\, visando optimizar o processo decisório e dar maior eficiência ao andamento dos trabalhos. \nA terceira sessão ocorrerá na sexta-feira\, 6 de Fevereiro de 2026\, das 17h30 às 19h30\, na Sede da APAP\, na Sala de Aula da Cocheira do ISA\, tendo como agenda: \n\nPrincípio de discussão dos actos profissionais;\nPatrimónio da APAP (arquivo\, biblioteca\, etc.);\nFuturo da APAP enquanto Associação;\nOutras questões.\n\nPara que os encontros sejam productivos\, apelamos à participação e à preparação de contributos constructivos e objectivos por parte de todos os participantes. \nA Direcção acolherá com elevado apreço a disponibilidade dos associados que se pretendam empenhar mais activamente na construção de uma proposta sólida e integrar o grupo de trabalho. Convidamos\, por isso\, todos os interessados a manifestarem a sua disponibilidade junto do secretariado da APAP (apoio.administrativo@apap.pt)\, com a indicação de se a participação será presencial ou online para nos melhor podermos preparar. \nÉ tempo de unirmos esforços e arregaçarmos as mangas para valorizar a nossa profissão!
URL:https://apap.pt/agenda/3a-sessao-de-trabalho-sobre-o-dossier-apapoa/
CATEGORIES:da APAP,Todos
ATTACH;FMTTYPE=image/jpeg:https://apap.pt/wp-content/uploads/2025/12/3a-Sessao-de-Trabalho-APAP_OA.jpg
END:VEVENT
BEGIN:VEVENT
DTSTART;TZID=Europe/Lisbon:20260224T170000
DTEND;TZID=Europe/Lisbon:20260224T180000
DTSTAMP:20260425T164559
CREATED:20260209T133443Z
LAST-MODIFIED:20260309T112407Z
UID:23061-1771952400-1771956000@apap.pt
SUMMARY:SUSTLAND Webinar Education
DESCRIPTION:WEBINAR \nTopic: Education \nWhen: February 24 @17h (PT)\, 18h (ES) \nParticipants: \n\nAna Paula Gomes da Silva – Universidade do Algarve\n\n\nRute Sousa Matos – Universidade de Évora\n\n\nAna Luísa Soares – Universidade de Lisboa\, Instituto Superior de Agronomia\n\n\nPaulo Farinha Marques – Universidade do Porto\n\n\nFrederico Meireles Rodrigues – Universidade de Trás-os-Montes e Alto Douro\n\n\nJuan Antonio Caridad – Universidade d’A Coruña\n\n\nLuis Maldonado – Universidade Politécnica da Catalunha\n\n\nLaura Jeschke – Universidade Rei João Carlos\n\nInternational Guest: \n\nMadara Markova\, Vice-President for Education\, IFLA Europe\n\n  \nParticipation is free\, but registration is mandatory. \nRegistration: https://us06web.zoom.us/meeting/register/9zS8yxbCRHWRJtdgwfIOyw#/registration
URL:https://apap.pt/agenda/sustland-webinar-1-education/
CATEGORIES:com participação da APAP,Todos
ATTACH;FMTTYPE=image/jpeg:https://apap.pt/wp-content/uploads/2026/02/20260224-sustland-education-1920x1080-1.jpg
END:VEVENT
BEGIN:VEVENT
DTSTART;TZID=Europe/Lisbon:20260226T100000
DTEND;TZID=Europe/Lisbon:20260226T180000
DTSTAMP:20260425T164559
CREATED:20260224T122123Z
LAST-MODIFIED:20260224T122123Z
UID:23131-1772100000-1772128800@apap.pt
SUMMARY:Lusoflora 2026
DESCRIPTION:A APAP irá estar na Lusoflora\, o maior evento nacional dedicado à produção de plantas ornamentais e aos setores que lhe estão associados\, nos dias 26 e 27 de Fevereiro\, no CNEMA\, em Santarém. \nConvidamos todos os nossos associados e amigos a visitar o nosso stand\, onde poderão solicitar ajuda com qualquer dúvida ou questão relacionada com a Associação\, efectuar compras da Loja APAP com 10% de desconto ou simplesmente conversar um pouco. \nMais informação e convite aqui: https://apap.pt/lusoflora-2026/
URL:https://apap.pt/agenda/lusoflora-2026/
LOCATION:CNEMA\, Santarém
CATEGORIES:com participação da APAP,Todos
ATTACH;FMTTYPE=image/jpeg:https://apap.pt/wp-content/uploads/2026/02/Lusoflora-2026.jpg
ORGANIZER;CN="Associa%C3%A7%C3%A3o Portuguesa de Produtores de Plantas e Flores Naturais":MAILTO:info@apppfn.pt
END:VEVENT
BEGIN:VEVENT
DTSTART;TZID=Europe/Lisbon:20260227T100000
DTEND;TZID=Europe/Lisbon:20260227T180000
DTSTAMP:20260425T164559
CREATED:20260224T122237Z
LAST-MODIFIED:20260224T122237Z
UID:23139-1772186400-1772215200@apap.pt
SUMMARY:Lusoflora 2026
DESCRIPTION:A APAP irá estar na Lusoflora\, o maior evento nacional dedicado à produção de plantas ornamentais e aos setores que lhe estão associados\, nos dias 26 e 27 de Fevereiro\, no CNEMA\, em Santarém. \nConvidamos todos os nossos associados e amigos a visitar o nosso stand\, onde poderão solicitar ajuda com qualquer dúvida ou questão relacionada com a Associação\, efectuar compras da Loja APAP com 10% de desconto ou simplesmente conversar um pouco. \nMais informação e convite aqui: https://apap.pt/lusoflora-2026/
URL:https://apap.pt/agenda/lusoflora-2026-2/
LOCATION:CNEMA\, Santarém
CATEGORIES:com participação da APAP,Todos
ATTACH;FMTTYPE=image/jpeg:https://apap.pt/wp-content/uploads/2026/02/Lusoflora-2026.jpg
ORGANIZER;CN="Associa%C3%A7%C3%A3o Portuguesa de Produtores de Plantas e Flores Naturais":MAILTO:info@apppfn.pt
END:VEVENT
END:VCALENDAR